BEGIN:VCALENDAR
VERSION:2.0
PRODID:-//AMA Northeast Ohio  - ECPv5.7.1//NONSGML v1.0//EN
CALSCALE:GREGORIAN
METHOD:PUBLISH
X-WR-CALNAME:AMA Northeast Ohio 
X-ORIGINAL-URL:https://www.amaneo.org
X-WR-CALDESC:Events for AMA Northeast Ohio 
BEGIN:VTIMEZONE
TZID:America/New_York
BEGIN:DAYLIGHT
TZOFFSETFROM:-0500
TZOFFSETTO:-0400
TZNAME:EDT
DTSTART:20180311T070000
END:DAYLIGHT
BEGIN:STANDARD
TZOFFSETFROM:-0400
TZOFFSETTO:-0500
TZNAME:EST
DTSTART:20181104T060000
END:STANDARD
END:VTIMEZONE
BEGIN:VEVENT
DTSTART;TZID=America/New_York:20180206T073000
DTEND;TZID=America/New_York:20180206T090000
DTSTAMP:20260423T054213
CREATED:20180122T211326Z
LAST-MODIFIED:20180122T213619Z
UID:1548-1517902200-1517907600@www.amaneo.org
SUMMARY:February SIG: Under the Hood: How to Grow Content Marketing Followers by 30%
DESCRIPTION:How do you take your content marketing program to the next level with limited staff and funds? This highly transparent session will take a look at the exact tools\, tactics and strategies Stahls’ Transfer Express has used to grow their viewership by 30% in the past 6 months. \nExpect to come away with a list of tools to check out\, who to follow to stay up to date on all aspects of content marketing and tactical steps to improve what you’re doing today. \nSpeaker: Katie Kinde Clark – Content Marketing Strategist\, Stahls’ Transfer Express\nFacilitator: Jeff Staats – Owner\, SpinVista \nExpect to come away with a list of tools to check out\, who to follow to stay up to date on all aspects of content marketing and tactical steps to improve what you’re doing today. \nAbout Our Speaker:\nIn a career spanning 25 years\, Kathie Kinde Clark has marketed products ranging from insurance to t-shirt transfers. She got her start in traditional direct marketing and has successfully transitioned to focusing on content marketing. Kathie is currently the Content Marketing Strategist for Stahls’ Transfer Express\, a leader in the apparel decorating industry. In her spare time\, Kathie does freelance photography and wastes an inordinate amount of money and energy on Cleveland sports teams. You can connect with her on LinkedIn\, where she frequently shares actionable advice on content marketing and improving company culture. \nEnjoy coffee and bagels. \n(Lower Level Conference Room) \n \n  \nAMA NEO’s SIG is a great start to your day. Free access to SIGs is a key benefit of AMA Membership. SIGs now open to guests at a small charge.
URL:https://www.amaneo.org/event/february-sig-hood-grow-content-marketing-followers-30/
LOCATION:One Independence Place\, 4807 Rockside Rd\, Independence\, OH\, 44131\, United States
ATTACH;FMTTYPE=image/png:https://www.amaneo.org/bin/uploads/2018/01/FollowUs.png
END:VEVENT
END:VCALENDAR